BEGIN:VCALENDAR
VERSION:2.0
PRODID:-//https://www.kakteen.org/web///NONSGML kigkonsult.se iCalcreator 2.10.15//
METHOD:PUBLISH
BEGIN:VEVENT
UID:20260419T144436CEST-8962mSfCpM@https://www.kakteen.org/web/
DTSTAMP:20260419T124436Z
DESCRIPTION:Mitglieder zeigen Blumenbilder aus 2026 / Chlaushock\nZurück zu
 r Terminliste https://www.kakteen.org/web/index.php/termine/event/575-blum
 enbilder-und-chlaushock
DTSTART:20260302T154747Z
DTEND:20261214T220000Z
LOCATION:Park Hotel Wangs (Bahnhofstrasse 31\, 7323\, Vilters-Wangs\, St. G
 allen)
SUMMARY:Blumenbilder und Chlaushock
URL:https://www.kakteen.org/web/index.php/termine/event/575-blumenbilder-un
 d-chlaushock
END:VEVENT
END:VCALENDAR
